BEGIN:VCALENDAR
PRODID:http://www.kufer.de/kuferweb / DE
VERSION:2.0
METHOD:PUBLISH
CALSCALE:GREGORIAN
X-WR-TIMEZONE:Europe/Berlin
BEGIN:VTIMEZONE
TZID:Europe/Berlin
X-LIC-LOCATION:Europe/Berlin
BEGIN:DAYLIGHT
TZOFFSETFROM:+0100
TZOFFSETTO:+0200
TZNAME:CEST
DTSTART;TZID=Europe/Berlin:19700329T020000
RRULE:FREQ=YEARLY;INTERVAL=1;BYDAY=-1SU;BYMONTH=3
END:DAYLIGHT
BEGIN:STANDARD
TZOFFSETFROM:+0200
TZOFFSETTO:+0100
TZNAME:CET
DTSTART;TZID=Europe/Berlin:19701025T030000
RRULE:FREQ=YEARLY;INTERVAL=1;BYDAY=-1SU;BYMONTH=10
END:STANDARD
END:VTIMEZONE
BEGIN:VEVENT
DTSTAMP:20260420T080506
DTSTART;TZID=Europe/Berlin:20240116T100000
DTEND;TZID=Europe/Berlin:20240116T113000
UID:F232-02003-20240116T100000@MARTINUSFORUM E.V.
SUMMARY:Yoga und Meditation 2 (10×) (F232-02003) 
LOCATION:Meditationsraum, Treibgasse 26, 63739 Aschaffenburg
END:VEVENT
BEGIN:VEVENT
DTSTAMP:20260420T080506
DTSTART;TZID=Europe/Berlin:20240123T100000
DTEND;TZID=Europe/Berlin:20240123T113000
UID:F232-02003-20240123T100000@MARTINUSFORUM E.V.
SUMMARY:Yoga und Meditation 2 (10×) (F232-02003) 
LOCATION:Meditationsraum, Treibgasse 26, 63739 Aschaffenburg
END:VEVENT
BEGIN:VEVENT
DTSTAMP:20260420T080506
DTSTART;TZID=Europe/Berlin:20240130T100000
DTEND;TZID=Europe/Berlin:20240130T113000
UID:F232-02003-20240130T100000@MARTINUSFORUM E.V.
SUMMARY:Yoga und Meditation 2 (10×) (F232-02003) 
LOCATION:Meditationsraum, Treibgasse 26, 63739 Aschaffenburg
END:VEVENT
BEGIN:VEVENT
DTSTAMP:20260420T080506
DTSTART;TZID=Europe/Berlin:20240206T100000
DTEND;TZID=Europe/Berlin:20240206T113000
UID:F232-02003-20240206T100000@MARTINUSFORUM E.V.
SUMMARY:Yoga und Meditation 2 (10×) (F232-02003) 
LOCATION:Meditationsraum, Treibgasse 26, 63739 Aschaffenburg
END:VEVENT
BEGIN:VEVENT
DTSTAMP:20260420T080506
DTSTART;TZID=Europe/Berlin:20240220T100000
DTEND;TZID=Europe/Berlin:20240220T113000
UID:F232-02003-20240220T100000@MARTINUSFORUM E.V.
SUMMARY:Yoga und Meditation 2 (10×) (F232-02003) 
LOCATION:Meditationsraum, Treibgasse 26, 63739 Aschaffenburg
END:VEVENT
BEGIN:VEVENT
DTSTAMP:20260420T080506
DTSTART;TZID=Europe/Berlin:20240227T100000
DTEND;TZID=Europe/Berlin:20240227T113000
UID:F232-02003-20240227T100000@MARTINUSFORUM E.V.
SUMMARY:Yoga und Meditation 2 (10×) (F232-02003) 
LOCATION:Meditationsraum, Treibgasse 26, 63739 Aschaffenburg
END:VEVENT
BEGIN:VEVENT
DTSTAMP:20260420T080506
DTSTART;TZID=Europe/Berlin:20240305T100000
DTEND;TZID=Europe/Berlin:20240305T113000
UID:F232-02003-20240305T100000@MARTINUSFORUM E.V.
SUMMARY:Yoga und Meditation 2 (10×) (F232-02003) 
LOCATION:Meditationsraum, Treibgasse 26, 63739 Aschaffenburg
END:VEVENT
BEGIN:VEVENT
DTSTAMP:20260420T080506
DTSTART;TZID=Europe/Berlin:20240312T100000
DTEND;TZID=Europe/Berlin:20240312T113000
UID:F232-02003-20240312T100000@MARTINUSFORUM E.V.
SUMMARY:Yoga und Meditation 2 (10×) (F232-02003) 
LOCATION:Meditationsraum, Treibgasse 26, 63739 Aschaffenburg
END:VEVENT
BEGIN:VEVENT
DTSTAMP:20260420T080506
DTSTART;TZID=Europe/Berlin:20240319T100000
DTEND;TZID=Europe/Berlin:20240319T113000
UID:F232-02003-20240319T100000@MARTINUSFORUM E.V.
SUMMARY:Yoga und Meditation 2 (10×) (F232-02003) 
LOCATION:Meditationsraum, Treibgasse 26, 63739 Aschaffenburg
END:VEVENT
BEGIN:VEVENT
DTSTAMP:20260420T080506
DTSTART;TZID=Europe/Berlin:20240409T100000
DTEND;TZID=Europe/Berlin:20240409T113000
UID:F232-02003-20240409T100000@MARTINUSFORUM E.V.
SUMMARY:Yoga und Meditation 2 (10×) (F232-02003) 
LOCATION:Meditationsraum, Treibgasse 26, 63739 Aschaffenburg
END:VEVENT
END:VCALENDAR