BEGIN:VCALENDAR
PRODID:http://www.kufer.de/kuferweb / DE
VERSION:2.0
METHOD:PUBLISH
CALSCALE:GREGORIAN
X-WR-TIMEZONE:Europe/Berlin
BEGIN:VTIMEZONE
TZID:Europe/Berlin
X-LIC-LOCATION:Europe/Berlin
BEGIN:DAYLIGHT
TZOFFSETFROM:+0100
TZOFFSETTO:+0200
TZNAME:CEST
DTSTART;TZID=Europe/Berlin:19700329T020000
RRULE:FREQ=YEARLY;INTERVAL=1;BYDAY=-1SU;BYMONTH=3
END:DAYLIGHT
BEGIN:STANDARD
TZOFFSETFROM:+0200
TZOFFSETTO:+0100
TZNAME:CET
DTSTART;TZID=Europe/Berlin:19701025T030000
RRULE:FREQ=YEARLY;INTERVAL=1;BYDAY=-1SU;BYMONTH=10
END:STANDARD
END:VTIMEZONE
BEGIN:VEVENT
DTSTAMP:20260421T021006
DTSTART;TZID=Europe/Berlin:20231123T100000
DTEND;TZID=Europe/Berlin:20231123T120000
UID:F232-03015-20231123T100000@MARTINUSFORUM E.V.
SUMMARY:Gesundheitswandern 2a (4×) mit Übungen für Koordination, Kraft und Ausdauer (F232-03015) 
LOCATION:Aschaffenburg, , 63739 Aschaffenburg
END:VEVENT
BEGIN:VEVENT
DTSTAMP:20260421T021006
DTSTART;TZID=Europe/Berlin:20231130T100000
DTEND;TZID=Europe/Berlin:20231130T120000
UID:F232-03015-20231130T100000@MARTINUSFORUM E.V.
SUMMARY:Gesundheitswandern 2a (4×) mit Übungen für Koordination, Kraft und Ausdauer (F232-03015) 
LOCATION:Aschaffenburg, , 63739 Aschaffenburg
END:VEVENT
BEGIN:VEVENT
DTSTAMP:20260421T021006
DTSTART;TZID=Europe/Berlin:20231214T100000
DTEND;TZID=Europe/Berlin:20231214T120000
UID:F232-03015-20231214T100000@MARTINUSFORUM E.V.
SUMMARY:Gesundheitswandern 2a (4×) mit Übungen für Koordination, Kraft und Ausdauer (F232-03015) 
LOCATION:Aschaffenburg, , 63739 Aschaffenburg
END:VEVENT
BEGIN:VEVENT
DTSTAMP:20260421T021006
DTSTART;TZID=Europe/Berlin:20240125T100000
DTEND;TZID=Europe/Berlin:20240125T120000
UID:F232-03015-20240125T100000@MARTINUSFORUM E.V.
DESCRIPTION:Nachholtermin vom 18.01.24 der wegen Glatteis ausgefallen ist. TN sind über Nachholtermin von Kursleitung informiert worden. Mail vom 23.01.24 AL
SUMMARY:Gesundheitswandern 2a (4×) mit Übungen für Koordination, Kraft und Ausdauer (F232-03015) 
LOCATION:Aschaffenburg, , 63739 Aschaffenburg
END:VEVENT
END:VCALENDAR