BEGIN:VCALENDAR
PRODID:http://www.kufer.de/kuferweb / DE
VERSION:2.0
METHOD:PUBLISH
CALSCALE:GREGORIAN
X-WR-TIMEZONE:Europe/Berlin
BEGIN:VTIMEZONE
TZID:Europe/Berlin
X-LIC-LOCATION:Europe/Berlin
BEGIN:DAYLIGHT
TZOFFSETFROM:+0100
TZOFFSETTO:+0200
TZNAME:CEST
DTSTART;TZID=Europe/Berlin:19700329T020000
RRULE:FREQ=YEARLY;INTERVAL=1;BYDAY=-1SU;BYMONTH=3
END:DAYLIGHT
BEGIN:STANDARD
TZOFFSETFROM:+0200
TZOFFSETTO:+0100
TZNAME:CET
DTSTART;TZID=Europe/Berlin:19701025T030000
RRULE:FREQ=YEARLY;INTERVAL=1;BYDAY=-1SU;BYMONTH=10
END:STANDARD
END:VTIMEZONE
BEGIN:VEVENT
DTSTAMP:20260421T121157
DTSTART;TZID=Europe/Berlin:20230921T103000
DTEND;TZID=Europe/Berlin:20230921T113000
UID:F232-03027-20230921T103000@MARTINUSFORUM E.V.
SUMMARY:Funktionelle Gymnastik 2 (15×) Übungen zur Kräftigung der Wirbelsäule (F232-03027) 
LOCATION:Tagungsraum 1, Treibgasse 26, 63739 Aschaffenburg
END:VEVENT
BEGIN:VEVENT
DTSTAMP:20260421T121157
DTSTART;TZID=Europe/Berlin:20230928T103000
DTEND;TZID=Europe/Berlin:20230928T113000
UID:F232-03027-20230928T103000@MARTINUSFORUM E.V.
SUMMARY:Funktionelle Gymnastik 2 (15×) Übungen zur Kräftigung der Wirbelsäule (F232-03027) 
LOCATION:Tagungsraum 1, Treibgasse 26, 63739 Aschaffenburg
END:VEVENT
BEGIN:VEVENT
DTSTAMP:20260421T121157
DTSTART;TZID=Europe/Berlin:20231005T103000
DTEND;TZID=Europe/Berlin:20231005T113000
UID:F232-03027-20231005T103000@MARTINUSFORUM E.V.
SUMMARY:Funktionelle Gymnastik 2 (15×) Übungen zur Kräftigung der Wirbelsäule (F232-03027) 
LOCATION:Tagungsraum 1, Treibgasse 26, 63739 Aschaffenburg
END:VEVENT
BEGIN:VEVENT
DTSTAMP:20260421T121157
DTSTART;TZID=Europe/Berlin:20231012T103000
DTEND;TZID=Europe/Berlin:20231012T113000
UID:F232-03027-20231012T103000@MARTINUSFORUM E.V.
SUMMARY:Funktionelle Gymnastik 2 (15×) Übungen zur Kräftigung der Wirbelsäule (F232-03027) 
LOCATION:Kolpingraum, Treibgasse 26, 63739 Aschaffenburg
END:VEVENT
BEGIN:VEVENT
DTSTAMP:20260421T121157
DTSTART;TZID=Europe/Berlin:20231019T103000
DTEND;TZID=Europe/Berlin:20231019T113000
UID:F232-03027-20231019T103000@MARTINUSFORUM E.V.
SUMMARY:Funktionelle Gymnastik 2 (15×) Übungen zur Kräftigung der Wirbelsäule (F232-03027) 
LOCATION:Tagungsraum 1, Treibgasse 26, 63739 Aschaffenburg
END:VEVENT
BEGIN:VEVENT
DTSTAMP:20260421T121157
DTSTART;TZID=Europe/Berlin:20231026T103000
DTEND;TZID=Europe/Berlin:20231026T113000
UID:F232-03027-20231026T103000@MARTINUSFORUM E.V.
SUMMARY:Funktionelle Gymnastik 2 (15×) Übungen zur Kräftigung der Wirbelsäule (F232-03027) 
LOCATION:Tagungsraum 1, Treibgasse 26, 63739 Aschaffenburg
END:VEVENT
BEGIN:VEVENT
DTSTAMP:20260421T121157
DTSTART;TZID=Europe/Berlin:20231123T103000
DTEND;TZID=Europe/Berlin:20231123T113000
UID:F232-03027-20231123T103000@MARTINUSFORUM E.V.
SUMMARY:Funktionelle Gymnastik 2 (15×) Übungen zur Kräftigung der Wirbelsäule (F232-03027) 
LOCATION:Tagungsraum 1, Treibgasse 26, 63739 Aschaffenburg
END:VEVENT
BEGIN:VEVENT
DTSTAMP:20260421T121157
DTSTART;TZID=Europe/Berlin:20231130T103000
DTEND;TZID=Europe/Berlin:20231130T113000
UID:F232-03027-20231130T103000@MARTINUSFORUM E.V.
SUMMARY:Funktionelle Gymnastik 2 (15×) Übungen zur Kräftigung der Wirbelsäule (F232-03027) 
LOCATION:Tagungsraum 1, Treibgasse 26, 63739 Aschaffenburg
END:VEVENT
BEGIN:VEVENT
DTSTAMP:20260421T121157
DTSTART;TZID=Europe/Berlin:20231207T103000
DTEND;TZID=Europe/Berlin:20231207T113000
UID:F232-03027-20231207T103000@MARTINUSFORUM E.V.
SUMMARY:Funktionelle Gymnastik 2 (15×) Übungen zur Kräftigung der Wirbelsäule (F232-03027) 
LOCATION:Kolpingraum, Treibgasse 26, 63739 Aschaffenburg
END:VEVENT
BEGIN:VEVENT
DTSTAMP:20260421T121157
DTSTART;TZID=Europe/Berlin:20231214T103000
DTEND;TZID=Europe/Berlin:20231214T113000
UID:F232-03027-20231214T103000@MARTINUSFORUM E.V.
SUMMARY:Funktionelle Gymnastik 2 (15×) Übungen zur Kräftigung der Wirbelsäule (F232-03027) 
LOCATION:Tagungsraum 1, Treibgasse 26, 63739 Aschaffenburg
END:VEVENT
BEGIN:VEVENT
DTSTAMP:20260421T121157
DTSTART;TZID=Europe/Berlin:20240111T103000
DTEND;TZID=Europe/Berlin:20240111T113000
UID:F232-03027-20240111T103000@MARTINUSFORUM E.V.
SUMMARY:Funktionelle Gymnastik 2 (15×) Übungen zur Kräftigung der Wirbelsäule (F232-03027) 
LOCATION:Tagungsraum 1, Treibgasse 26, 63739 Aschaffenburg
END:VEVENT
BEGIN:VEVENT
DTSTAMP:20260421T121157
DTSTART;TZID=Europe/Berlin:20240118T103000
DTEND;TZID=Europe/Berlin:20240118T113000
UID:F232-03027-20240118T103000@MARTINUSFORUM E.V.
SUMMARY:Funktionelle Gymnastik 2 (15×) Übungen zur Kräftigung der Wirbelsäule (F232-03027) 
LOCATION:Tagungsraum 1, Treibgasse 26, 63739 Aschaffenburg
END:VEVENT
BEGIN:VEVENT
DTSTAMP:20260421T121157
DTSTART;TZID=Europe/Berlin:20240125T103000
DTEND;TZID=Europe/Berlin:20240125T113000
UID:F232-03027-20240125T103000@MARTINUSFORUM E.V.
SUMMARY:Funktionelle Gymnastik 2 (15×) Übungen zur Kräftigung der Wirbelsäule (F232-03027) 
LOCATION:Tagungsraum 1, Treibgasse 26, 63739 Aschaffenburg
END:VEVENT
BEGIN:VEVENT
DTSTAMP:20260421T121157
DTSTART;TZID=Europe/Berlin:20240201T103000
DTEND;TZID=Europe/Berlin:20240201T113000
UID:F232-03027-20240201T103000@MARTINUSFORUM E.V.
SUMMARY:Funktionelle Gymnastik 2 (15×) Übungen zur Kräftigung der Wirbelsäule (F232-03027) 
LOCATION:Tagungsraum 1, Treibgasse 26, 63739 Aschaffenburg
END:VEVENT
BEGIN:VEVENT
DTSTAMP:20260421T121157
DTSTART;TZID=Europe/Berlin:20240208T103000
DTEND;TZID=Europe/Berlin:20240208T113000
UID:F232-03027-20240208T103000@MARTINUSFORUM E.V.
SUMMARY:Funktionelle Gymnastik 2 (15×) Übungen zur Kräftigung der Wirbelsäule (F232-03027) 
LOCATION:Tagungsraum 1, Treibgasse 26, 63739 Aschaffenburg
END:VEVENT
END:VCALENDAR