BEGIN:VCALENDAR
PRODID:http://www.kufer.de/kuferweb / DE
VERSION:2.0
METHOD:PUBLISH
CALSCALE:GREGORIAN
X-WR-TIMEZONE:Europe/Berlin
BEGIN:VTIMEZONE
TZID:Europe/Berlin
X-LIC-LOCATION:Europe/Berlin
BEGIN:DAYLIGHT
TZOFFSETFROM:+0100
TZOFFSETTO:+0200
TZNAME:CEST
DTSTART;TZID=Europe/Berlin:19700329T020000
RRULE:FREQ=YEARLY;INTERVAL=1;BYDAY=-1SU;BYMONTH=3
END:DAYLIGHT
BEGIN:STANDARD
TZOFFSETFROM:+0200
TZOFFSETTO:+0100
TZNAME:CET
DTSTART;TZID=Europe/Berlin:19701025T030000
RRULE:FREQ=YEARLY;INTERVAL=1;BYDAY=-1SU;BYMONTH=10
END:STANDARD
END:VTIMEZONE
BEGIN:VEVENT
DTSTAMP:20260420T040030
DTSTART;TZID=Europe/Berlin:20250114T100000
DTEND;TZID=Europe/Berlin:20250114T113000
UID:F242-03016-20250114T100000@MARTINUSFORUM E.V.
SUMMARY:Yoga und Meditation  2 (10×) (F242-03016) 
LOCATION:Meditationsraum, Treibgasse 26, 63739 Aschaffenburg
END:VEVENT
BEGIN:VEVENT
DTSTAMP:20260420T040030
DTSTART;TZID=Europe/Berlin:20250121T100000
DTEND;TZID=Europe/Berlin:20250121T113000
UID:F242-03016-20250121T100000@MARTINUSFORUM E.V.
SUMMARY:Yoga und Meditation  2 (10×) (F242-03016) 
LOCATION:Meditationsraum, Treibgasse 26, 63739 Aschaffenburg
END:VEVENT
BEGIN:VEVENT
DTSTAMP:20260420T040030
DTSTART;TZID=Europe/Berlin:20250128T100000
DTEND;TZID=Europe/Berlin:20250128T113000
UID:F242-03016-20250128T100000@MARTINUSFORUM E.V.
SUMMARY:Yoga und Meditation  2 (10×) (F242-03016) 
LOCATION:Meditationsraum, Treibgasse 26, 63739 Aschaffenburg
END:VEVENT
BEGIN:VEVENT
DTSTAMP:20260420T040030
DTSTART;TZID=Europe/Berlin:20250204T100000
DTEND;TZID=Europe/Berlin:20250204T113000
UID:F242-03016-20250204T100000@MARTINUSFORUM E.V.
SUMMARY:Yoga und Meditation  2 (10×) (F242-03016) 
LOCATION:Meditationsraum, Treibgasse 26, 63739 Aschaffenburg
END:VEVENT
BEGIN:VEVENT
DTSTAMP:20260420T040030
DTSTART;TZID=Europe/Berlin:20250211T100000
DTEND;TZID=Europe/Berlin:20250211T113000
UID:F242-03016-20250211T100000@MARTINUSFORUM E.V.
SUMMARY:Yoga und Meditation  2 (10×) (F242-03016) 
LOCATION:Meditationsraum, Treibgasse 26, 63739 Aschaffenburg
END:VEVENT
BEGIN:VEVENT
DTSTAMP:20260420T040030
DTSTART;TZID=Europe/Berlin:20250218T100000
DTEND;TZID=Europe/Berlin:20250218T113000
UID:F242-03016-20250218T100000@MARTINUSFORUM E.V.
SUMMARY:Yoga und Meditation  2 (10×) (F242-03016) 
LOCATION:Meditationsraum, Treibgasse 26, 63739 Aschaffenburg
END:VEVENT
BEGIN:VEVENT
DTSTAMP:20260420T040030
DTSTART;TZID=Europe/Berlin:20250225T100000
DTEND;TZID=Europe/Berlin:20250225T113000
UID:F242-03016-20250225T100000@MARTINUSFORUM E.V.
SUMMARY:Yoga und Meditation  2 (10×) (F242-03016) 
LOCATION:Meditationsraum, Treibgasse 26, 63739 Aschaffenburg
END:VEVENT
BEGIN:VEVENT
DTSTAMP:20260420T040030
DTSTART;TZID=Europe/Berlin:20250311T100000
DTEND;TZID=Europe/Berlin:20250311T113000
UID:F242-03016-20250311T100000@MARTINUSFORUM E.V.
SUMMARY:Yoga und Meditation  2 (10×) (F242-03016) 
LOCATION:Meditationsraum, Treibgasse 26, 63739 Aschaffenburg
END:VEVENT
BEGIN:VEVENT
DTSTAMP:20260420T040030
DTSTART;TZID=Europe/Berlin:20250318T100000
DTEND;TZID=Europe/Berlin:20250318T113000
UID:F242-03016-20250318T100000@MARTINUSFORUM E.V.
SUMMARY:Yoga und Meditation  2 (10×) (F242-03016) 
LOCATION:Meditationsraum, Treibgasse 26, 63739 Aschaffenburg
END:VEVENT
BEGIN:VEVENT
DTSTAMP:20260420T040030
DTSTART;TZID=Europe/Berlin:20250325T100000
DTEND;TZID=Europe/Berlin:20250325T113000
UID:F242-03016-20250325T100000@MARTINUSFORUM E.V.
SUMMARY:Yoga und Meditation  2 (10×) (F242-03016) 
LOCATION:Meditationsraum, Treibgasse 26, 63739 Aschaffenburg
END:VEVENT
END:VCALENDAR