BEGIN:VCALENDAR
PRODID:http://www.kufer.de/kuferweb / DE
VERSION:2.0
METHOD:PUBLISH
CALSCALE:GREGORIAN
X-WR-TIMEZONE:Europe/Berlin
BEGIN:VTIMEZONE
TZID:Europe/Berlin
X-LIC-LOCATION:Europe/Berlin
BEGIN:DAYLIGHT
TZOFFSETFROM:+0100
TZOFFSETTO:+0200
TZNAME:CEST
DTSTART;TZID=Europe/Berlin:19700329T020000
RRULE:FREQ=YEARLY;INTERVAL=1;BYDAY=-1SU;BYMONTH=3
END:DAYLIGHT
BEGIN:STANDARD
TZOFFSETFROM:+0200
TZOFFSETTO:+0100
TZNAME:CET
DTSTART;TZID=Europe/Berlin:19701025T030000
RRULE:FREQ=YEARLY;INTERVAL=1;BYDAY=-1SU;BYMONTH=10
END:STANDARD
END:VTIMEZONE
BEGIN:VEVENT
DTSTAMP:20260422T014129
DTSTART;TZID=Europe/Berlin:20260915T183000
DTEND;TZID=Europe/Berlin:20260915T210000
UID:F262-03013-20260915T183000@MARTINUSFORUM E.V.
SUMMARY:Wenn die Freude Trauer trägt Rückbildungskurs für verwaiste Mamas (F262-03013) 
LOCATION:Meditationsraum, Treibgasse 26, 63739 Aschaffenburg
END:VEVENT
BEGIN:VEVENT
DTSTAMP:20260422T014129
DTSTART;TZID=Europe/Berlin:20260922T183000
DTEND;TZID=Europe/Berlin:20260922T210000
UID:F262-03013-20260922T183000@MARTINUSFORUM E.V.
SUMMARY:Wenn die Freude Trauer trägt Rückbildungskurs für verwaiste Mamas (F262-03013) 
LOCATION:Meditationsraum, Treibgasse 26, 63739 Aschaffenburg
END:VEVENT
BEGIN:VEVENT
DTSTAMP:20260422T014129
DTSTART;TZID=Europe/Berlin:20260929T183000
DTEND;TZID=Europe/Berlin:20260929T210000
UID:F262-03013-20260929T183000@MARTINUSFORUM E.V.
SUMMARY:Wenn die Freude Trauer trägt Rückbildungskurs für verwaiste Mamas (F262-03013) 
LOCATION:Meditationsraum, Treibgasse 26, 63739 Aschaffenburg
END:VEVENT
BEGIN:VEVENT
DTSTAMP:20260422T014129
DTSTART;TZID=Europe/Berlin:20261006T183000
DTEND;TZID=Europe/Berlin:20261006T210000
UID:F262-03013-20261006T183000@MARTINUSFORUM E.V.
SUMMARY:Wenn die Freude Trauer trägt Rückbildungskurs für verwaiste Mamas (F262-03013) 
LOCATION:Meditationsraum, Treibgasse 26, 63739 Aschaffenburg
END:VEVENT
BEGIN:VEVENT
DTSTAMP:20260422T014129
DTSTART;TZID=Europe/Berlin:20261013T183000
DTEND;TZID=Europe/Berlin:20261013T210000
UID:F262-03013-20261013T183000@MARTINUSFORUM E.V.
SUMMARY:Wenn die Freude Trauer trägt Rückbildungskurs für verwaiste Mamas (F262-03013) 
LOCATION:Meditationsraum, Treibgasse 26, 63739 Aschaffenburg
END:VEVENT
BEGIN:VEVENT
DTSTAMP:20260422T014129
DTSTART;TZID=Europe/Berlin:20261020T183000
DTEND;TZID=Europe/Berlin:20261020T210000
UID:F262-03013-20261020T183000@MARTINUSFORUM E.V.
SUMMARY:Wenn die Freude Trauer trägt Rückbildungskurs für verwaiste Mamas (F262-03013) 
LOCATION:Meditationsraum, Treibgasse 26, 63739 Aschaffenburg
END:VEVENT
END:VCALENDAR