BEGIN:VCALENDAR
PRODID:http://www.kufer.de/kuferweb / DE
VERSION:2.0
METHOD:PUBLISH
CALSCALE:GREGORIAN
X-WR-TIMEZONE:Europe/Berlin
BEGIN:VTIMEZONE
TZID:Europe/Berlin
X-LIC-LOCATION:Europe/Berlin
BEGIN:DAYLIGHT
TZOFFSETFROM:+0100
TZOFFSETTO:+0200
TZNAME:CEST
DTSTART;TZID=Europe/Berlin:19700329T020000
RRULE:FREQ=YEARLY;INTERVAL=1;BYDAY=-1SU;BYMONTH=3
END:DAYLIGHT
BEGIN:STANDARD
TZOFFSETFROM:+0200
TZOFFSETTO:+0100
TZNAME:CET
DTSTART;TZID=Europe/Berlin:19701025T030000
RRULE:FREQ=YEARLY;INTERVAL=1;BYDAY=-1SU;BYMONTH=10
END:STANDARD
END:VTIMEZONE
BEGIN:VEVENT
DTSTAMP:20260421T232140
DTSTART;TZID=Europe/Berlin:20261008T183000
DTEND;TZID=Europe/Berlin:20261008T193000
UID:F262-03015-20261008T183000@MARTINUSFORUM E.V.
SUMMARY:Stark mit Endometriose (6x) Bewegung und Stärkung für Frauen mit Endometriose (F262-03015) 
LOCATION:Martinushaus Aschaffenburg, Treibgasse 26, 63739 Aschaffenburg
END:VEVENT
BEGIN:VEVENT
DTSTAMP:20260421T232140
DTSTART;TZID=Europe/Berlin:20261015T183000
DTEND;TZID=Europe/Berlin:20261015T193000
UID:F262-03015-20261015T183000@MARTINUSFORUM E.V.
SUMMARY:Stark mit Endometriose (6x) Bewegung und Stärkung für Frauen mit Endometriose (F262-03015) 
LOCATION:Martinushaus Aschaffenburg, Treibgasse 26, 63739 Aschaffenburg
END:VEVENT
BEGIN:VEVENT
DTSTAMP:20260421T232140
DTSTART;TZID=Europe/Berlin:20261022T183000
DTEND;TZID=Europe/Berlin:20261022T193000
UID:F262-03015-20261022T183000@MARTINUSFORUM E.V.
SUMMARY:Stark mit Endometriose (6x) Bewegung und Stärkung für Frauen mit Endometriose (F262-03015) 
LOCATION:Martinushaus Aschaffenburg, Treibgasse 26, 63739 Aschaffenburg
END:VEVENT
BEGIN:VEVENT
DTSTAMP:20260421T232140
DTSTART;TZID=Europe/Berlin:20261112T183000
DTEND;TZID=Europe/Berlin:20261112T193000
UID:F262-03015-20261112T183000@MARTINUSFORUM E.V.
SUMMARY:Stark mit Endometriose (6x) Bewegung und Stärkung für Frauen mit Endometriose (F262-03015) 
LOCATION:Martinushaus Aschaffenburg, Treibgasse 26, 63739 Aschaffenburg
END:VEVENT
BEGIN:VEVENT
DTSTAMP:20260421T232140
DTSTART;TZID=Europe/Berlin:20261119T183000
DTEND;TZID=Europe/Berlin:20261119T193000
UID:F262-03015-20261119T183000@MARTINUSFORUM E.V.
SUMMARY:Stark mit Endometriose (6x) Bewegung und Stärkung für Frauen mit Endometriose (F262-03015) 
LOCATION:Martinushaus Aschaffenburg, Treibgasse 26, 63739 Aschaffenburg
END:VEVENT
BEGIN:VEVENT
DTSTAMP:20260421T232140
DTSTART;TZID=Europe/Berlin:20261126T183000
DTEND;TZID=Europe/Berlin:20261126T193000
UID:F262-03015-20261126T183000@MARTINUSFORUM E.V.
SUMMARY:Stark mit Endometriose (6x) Bewegung und Stärkung für Frauen mit Endometriose (F262-03015) 
LOCATION:Martinushaus Aschaffenburg, Treibgasse 26, 63739 Aschaffenburg
END:VEVENT
END:VCALENDAR