BEGIN:VCALENDAR
PRODID:http://www.kufer.de/kuferweb / DE
VERSION:2.0
METHOD:PUBLISH
CALSCALE:GREGORIAN
X-WR-TIMEZONE:Europe/Berlin
BEGIN:VTIMEZONE
TZID:Europe/Berlin
X-LIC-LOCATION:Europe/Berlin
BEGIN:DAYLIGHT
TZOFFSETFROM:+0100
TZOFFSETTO:+0200
TZNAME:CEST
DTSTART;TZID=Europe/Berlin:19700329T020000
RRULE:FREQ=YEARLY;INTERVAL=1;BYDAY=-1SU;BYMONTH=3
END:DAYLIGHT
BEGIN:STANDARD
TZOFFSETFROM:+0200
TZOFFSETTO:+0100
TZNAME:CET
DTSTART;TZID=Europe/Berlin:19701025T030000
RRULE:FREQ=YEARLY;INTERVAL=1;BYDAY=-1SU;BYMONTH=10
END:STANDARD
END:VTIMEZONE
BEGIN:VEVENT
DTSTAMP:20260422T012736
DTSTART;TZID=Europe/Berlin:20260915T180000
DTEND;TZID=Europe/Berlin:20260915T190000
UID:F262-05005-20260915T180000@MARTINUSFORUM E.V.
SUMMARY:Qigong (F262-05005) 
LOCATION:Martinushaus Aschaffenburg, Treibgasse 26, 63739 Aschaffenburg
END:VEVENT
BEGIN:VEVENT
DTSTAMP:20260422T012736
DTSTART;TZID=Europe/Berlin:20260922T180000
DTEND;TZID=Europe/Berlin:20260922T190000
UID:F262-05005-20260922T180000@MARTINUSFORUM E.V.
SUMMARY:Qigong (F262-05005) 
LOCATION:Martinushaus Aschaffenburg, Treibgasse 26, 63739 Aschaffenburg
END:VEVENT
BEGIN:VEVENT
DTSTAMP:20260422T012736
DTSTART;TZID=Europe/Berlin:20260929T180000
DTEND;TZID=Europe/Berlin:20260929T190000
UID:F262-05005-20260929T180000@MARTINUSFORUM E.V.
SUMMARY:Qigong (F262-05005) 
LOCATION:Martinushaus Aschaffenburg, Treibgasse 26, 63739 Aschaffenburg
END:VEVENT
BEGIN:VEVENT
DTSTAMP:20260422T012736
DTSTART;TZID=Europe/Berlin:20261006T180000
DTEND;TZID=Europe/Berlin:20261006T190000
UID:F262-05005-20261006T180000@MARTINUSFORUM E.V.
SUMMARY:Qigong (F262-05005) 
LOCATION:Martinushaus Aschaffenburg, Treibgasse 26, 63739 Aschaffenburg
END:VEVENT
BEGIN:VEVENT
DTSTAMP:20260422T012736
DTSTART;TZID=Europe/Berlin:20261013T180000
DTEND;TZID=Europe/Berlin:20261013T190000
UID:F262-05005-20261013T180000@MARTINUSFORUM E.V.
SUMMARY:Qigong (F262-05005) 
LOCATION:Martinushaus Aschaffenburg, Treibgasse 26, 63739 Aschaffenburg
END:VEVENT
BEGIN:VEVENT
DTSTAMP:20260422T012736
DTSTART;TZID=Europe/Berlin:20261020T180000
DTEND;TZID=Europe/Berlin:20261020T190000
UID:F262-05005-20261020T180000@MARTINUSFORUM E.V.
SUMMARY:Qigong (F262-05005) 
LOCATION:Martinushaus Aschaffenburg, Treibgasse 26, 63739 Aschaffenburg
END:VEVENT
BEGIN:VEVENT
DTSTAMP:20260422T012736
DTSTART;TZID=Europe/Berlin:20261027T180000
DTEND;TZID=Europe/Berlin:20261027T190000
UID:F262-05005-20261027T180000@MARTINUSFORUM E.V.
SUMMARY:Qigong (F262-05005) 
LOCATION:Martinushaus Aschaffenburg, Treibgasse 26, 63739 Aschaffenburg
END:VEVENT
BEGIN:VEVENT
DTSTAMP:20260422T012736
DTSTART;TZID=Europe/Berlin:20261110T180000
DTEND;TZID=Europe/Berlin:20261110T190000
UID:F262-05005-20261110T180000@MARTINUSFORUM E.V.
SUMMARY:Qigong (F262-05005) 
LOCATION:Martinushaus Aschaffenburg, Treibgasse 26, 63739 Aschaffenburg
END:VEVENT
END:VCALENDAR