BEGIN:VCALENDAR
PRODID:http://www.kufer.de/kuferweb / DE
VERSION:2.0
METHOD:PUBLISH
CALSCALE:GREGORIAN
X-WR-TIMEZONE:Europe/Berlin
BEGIN:VTIMEZONE
TZID:Europe/Berlin
X-LIC-LOCATION:Europe/Berlin
BEGIN:DAYLIGHT
TZOFFSETFROM:+0100
TZOFFSETTO:+0200
TZNAME:CEST
DTSTART;TZID=Europe/Berlin:19700329T020000
RRULE:FREQ=YEARLY;INTERVAL=1;BYDAY=-1SU;BYMONTH=3
END:DAYLIGHT
BEGIN:STANDARD
TZOFFSETFROM:+0200
TZOFFSETTO:+0100
TZNAME:CET
DTSTART;TZID=Europe/Berlin:19701025T030000
RRULE:FREQ=YEARLY;INTERVAL=1;BYDAY=-1SU;BYMONTH=10
END:STANDARD
END:VTIMEZONE
BEGIN:VEVENT
DTSTAMP:20260421T235306
DTSTART;TZID=Europe/Berlin:20270216T180000
DTEND;TZID=Europe/Berlin:20270216T190000
UID:F271-03001-20270216T180000@MARTINUSFORUM E.V.
SUMMARY:Qigong (8x) (F271-03001) 
LOCATION:Martinushaus Aschaffenburg, Treibgasse 26, 63739 Aschaffenburg
END:VEVENT
BEGIN:VEVENT
DTSTAMP:20260421T235306
DTSTART;TZID=Europe/Berlin:20270223T180000
DTEND;TZID=Europe/Berlin:20270223T190000
UID:F271-03001-20270223T180000@MARTINUSFORUM E.V.
SUMMARY:Qigong (8x) (F271-03001) 
LOCATION:Martinushaus Aschaffenburg, Treibgasse 26, 63739 Aschaffenburg
END:VEVENT
BEGIN:VEVENT
DTSTAMP:20260421T235306
DTSTART;TZID=Europe/Berlin:20270302T180000
DTEND;TZID=Europe/Berlin:20270302T190000
UID:F271-03001-20270302T180000@MARTINUSFORUM E.V.
DESCRIPTION:war versehentlich der 03.03.2027 angegeben s. Mail von Kerstin AS 24.02.2026
SUMMARY:Qigong (8x) (F271-03001) 
LOCATION:Martinushaus Aschaffenburg, Treibgasse 26, 63739 Aschaffenburg
END:VEVENT
BEGIN:VEVENT
DTSTAMP:20260421T235306
DTSTART;TZID=Europe/Berlin:20270309T180000
DTEND;TZID=Europe/Berlin:20270309T190000
UID:F271-03001-20270309T180000@MARTINUSFORUM E.V.
SUMMARY:Qigong (8x) (F271-03001) 
LOCATION:Martinushaus Aschaffenburg, Treibgasse 26, 63739 Aschaffenburg
END:VEVENT
BEGIN:VEVENT
DTSTAMP:20260421T235306
DTSTART;TZID=Europe/Berlin:20270316T180000
DTEND;TZID=Europe/Berlin:20270316T190000
UID:F271-03001-20270316T180000@MARTINUSFORUM E.V.
SUMMARY:Qigong (8x) (F271-03001) 
LOCATION:Martinushaus Aschaffenburg, Treibgasse 26, 63739 Aschaffenburg
END:VEVENT
BEGIN:VEVENT
DTSTAMP:20260421T235306
DTSTART;TZID=Europe/Berlin:20270406T180000
DTEND;TZID=Europe/Berlin:20270406T190000
UID:F271-03001-20270406T180000@MARTINUSFORUM E.V.
SUMMARY:Qigong (8x) (F271-03001) 
LOCATION:Martinushaus Aschaffenburg, Treibgasse 26, 63739 Aschaffenburg
END:VEVENT
BEGIN:VEVENT
DTSTAMP:20260421T235306
DTSTART;TZID=Europe/Berlin:20270413T180000
DTEND;TZID=Europe/Berlin:20270413T190000
UID:F271-03001-20270413T180000@MARTINUSFORUM E.V.
SUMMARY:Qigong (8x) (F271-03001) 
LOCATION:Martinushaus Aschaffenburg, Treibgasse 26, 63739 Aschaffenburg
END:VEVENT
BEGIN:VEVENT
DTSTAMP:20260421T235306
DTSTART;TZID=Europe/Berlin:20270420T180000
DTEND;TZID=Europe/Berlin:20270420T190000
UID:F271-03001-20270420T180000@MARTINUSFORUM E.V.
SUMMARY:Qigong (8x) (F271-03001) 
LOCATION:Martinushaus Aschaffenburg, Treibgasse 26, 63739 Aschaffenburg
END:VEVENT
END:VCALENDAR