BEGIN:VCALENDAR
PRODID:http://www.kufer.de/kuferweb / DE
VERSION:2.0
METHOD:PUBLISH
CALSCALE:GREGORIAN
X-WR-TIMEZONE:Europe/Berlin
BEGIN:VTIMEZONE
TZID:Europe/Berlin
X-LIC-LOCATION:Europe/Berlin
BEGIN:DAYLIGHT
TZOFFSETFROM:+0100
TZOFFSETTO:+0200
TZNAME:CEST
DTSTART;TZID=Europe/Berlin:19700329T020000
RRULE:FREQ=YEARLY;INTERVAL=1;BYDAY=-1SU;BYMONTH=3
END:DAYLIGHT
BEGIN:STANDARD
TZOFFSETFROM:+0200
TZOFFSETTO:+0100
TZNAME:CET
DTSTART;TZID=Europe/Berlin:19701025T030000
RRULE:FREQ=YEARLY;INTERVAL=1;BYDAY=-1SU;BYMONTH=10
END:STANDARD
END:VTIMEZONE
BEGIN:VEVENT
DTSTAMP:20260422T000608
DTSTART;TZID=Europe/Berlin:20270601T180000
DTEND;TZID=Europe/Berlin:20270601T190000
UID:F271-03002-20270601T180000@MARTINUSFORUM E.V.
SUMMARY:Qigong (8x)  Die 8 Brokate (F271-03002) 
LOCATION:Martinushaus Aschaffenburg, Treibgasse 26, 63739 Aschaffenburg
END:VEVENT
BEGIN:VEVENT
DTSTAMP:20260422T000608
DTSTART;TZID=Europe/Berlin:20270608T180000
DTEND;TZID=Europe/Berlin:20270608T190000
UID:F271-03002-20270608T180000@MARTINUSFORUM E.V.
SUMMARY:Qigong (8x)  Die 8 Brokate (F271-03002) 
LOCATION:Martinushaus Aschaffenburg, Treibgasse 26, 63739 Aschaffenburg
END:VEVENT
BEGIN:VEVENT
DTSTAMP:20260422T000608
DTSTART;TZID=Europe/Berlin:20270615T180000
DTEND;TZID=Europe/Berlin:20270615T190000
UID:F271-03002-20270615T180000@MARTINUSFORUM E.V.
SUMMARY:Qigong (8x)  Die 8 Brokate (F271-03002) 
LOCATION:Martinushaus Aschaffenburg, Treibgasse 26, 63739 Aschaffenburg
END:VEVENT
BEGIN:VEVENT
DTSTAMP:20260422T000608
DTSTART;TZID=Europe/Berlin:20270622T180000
DTEND;TZID=Europe/Berlin:20270622T190000
UID:F271-03002-20270622T180000@MARTINUSFORUM E.V.
SUMMARY:Qigong (8x)  Die 8 Brokate (F271-03002) 
LOCATION:Martinushaus Aschaffenburg, Treibgasse 26, 63739 Aschaffenburg
END:VEVENT
BEGIN:VEVENT
DTSTAMP:20260422T000608
DTSTART;TZID=Europe/Berlin:20270629T180000
DTEND;TZID=Europe/Berlin:20270629T190000
UID:F271-03002-20270629T180000@MARTINUSFORUM E.V.
SUMMARY:Qigong (8x)  Die 8 Brokate (F271-03002) 
LOCATION:Martinushaus Aschaffenburg, Treibgasse 26, 63739 Aschaffenburg
END:VEVENT
BEGIN:VEVENT
DTSTAMP:20260422T000608
DTSTART;TZID=Europe/Berlin:20270706T180000
DTEND;TZID=Europe/Berlin:20270706T190000
UID:F271-03002-20270706T180000@MARTINUSFORUM E.V.
SUMMARY:Qigong (8x)  Die 8 Brokate (F271-03002) 
LOCATION:Martinushaus Aschaffenburg, Treibgasse 26, 63739 Aschaffenburg
END:VEVENT
BEGIN:VEVENT
DTSTAMP:20260422T000608
DTSTART;TZID=Europe/Berlin:20270713T180000
DTEND;TZID=Europe/Berlin:20270713T190000
UID:F271-03002-20270713T180000@MARTINUSFORUM E.V.
SUMMARY:Qigong (8x)  Die 8 Brokate (F271-03002) 
LOCATION:Martinushaus Aschaffenburg, Treibgasse 26, 63739 Aschaffenburg
END:VEVENT
BEGIN:VEVENT
DTSTAMP:20260422T000608
DTSTART;TZID=Europe/Berlin:20270720T180000
DTEND;TZID=Europe/Berlin:20270720T190000
UID:F271-03002-20270720T180000@MARTINUSFORUM E.V.
SUMMARY:Qigong (8x)  Die 8 Brokate (F271-03002) 
LOCATION:Martinushaus Aschaffenburg, Treibgasse 26, 63739 Aschaffenburg
END:VEVENT
END:VCALENDAR