BEGIN:VCALENDAR
PRODID:http://www.kufer.de/kuferweb / DE
VERSION:2.0
METHOD:PUBLISH
CALSCALE:GREGORIAN
X-WR-TIMEZONE:Europe/Berlin
BEGIN:VTIMEZONE
TZID:Europe/Berlin
X-LIC-LOCATION:Europe/Berlin
BEGIN:DAYLIGHT
TZOFFSETFROM:+0100
TZOFFSETTO:+0200
TZNAME:CEST
DTSTART;TZID=Europe/Berlin:19700329T020000
RRULE:FREQ=YEARLY;INTERVAL=1;BYDAY=-1SU;BYMONTH=3
END:DAYLIGHT
BEGIN:STANDARD
TZOFFSETFROM:+0200
TZOFFSETTO:+0100
TZNAME:CET
DTSTART;TZID=Europe/Berlin:19701025T030000
RRULE:FREQ=YEARLY;INTERVAL=1;BYDAY=-1SU;BYMONTH=10
END:STANDARD
END:VTIMEZONE
BEGIN:VEVENT
DTSTAMP:20260421T235828
DTSTART;TZID=Europe/Berlin:20270602T180000
DTEND;TZID=Europe/Berlin:20270602T190000
UID:F271-03003-20270602T180000@MARTINUSFORUM E.V.
SUMMARY:Qigong (8x) Gesundheits-Qigong (F271-03003) 
LOCATION:Tagungszentrum Schmerlenbach, Schmerlenbacher Straße 8, 63768 Hösbach
END:VEVENT
BEGIN:VEVENT
DTSTAMP:20260421T235828
DTSTART;TZID=Europe/Berlin:20270609T180000
DTEND;TZID=Europe/Berlin:20270609T190000
UID:F271-03003-20270609T180000@MARTINUSFORUM E.V.
SUMMARY:Qigong (8x) Gesundheits-Qigong (F271-03003) 
LOCATION:Tagungszentrum Schmerlenbach, Schmerlenbacher Straße 8, 63768 Hösbach
END:VEVENT
BEGIN:VEVENT
DTSTAMP:20260421T235828
DTSTART;TZID=Europe/Berlin:20270616T180000
DTEND;TZID=Europe/Berlin:20270616T190000
UID:F271-03003-20270616T180000@MARTINUSFORUM E.V.
SUMMARY:Qigong (8x) Gesundheits-Qigong (F271-03003) 
LOCATION:Tagungszentrum Schmerlenbach, Schmerlenbacher Straße 8, 63768 Hösbach
END:VEVENT
BEGIN:VEVENT
DTSTAMP:20260421T235828
DTSTART;TZID=Europe/Berlin:20270623T180000
DTEND;TZID=Europe/Berlin:20270623T190000
UID:F271-03003-20270623T180000@MARTINUSFORUM E.V.
SUMMARY:Qigong (8x) Gesundheits-Qigong (F271-03003) 
LOCATION:Tagungszentrum Schmerlenbach, Schmerlenbacher Straße 8, 63768 Hösbach
END:VEVENT
BEGIN:VEVENT
DTSTAMP:20260421T235828
DTSTART;TZID=Europe/Berlin:20270630T180000
DTEND;TZID=Europe/Berlin:20270630T190000
UID:F271-03003-20270630T180000@MARTINUSFORUM E.V.
SUMMARY:Qigong (8x) Gesundheits-Qigong (F271-03003) 
LOCATION:Tagungszentrum Schmerlenbach, Schmerlenbacher Straße 8, 63768 Hösbach
END:VEVENT
BEGIN:VEVENT
DTSTAMP:20260421T235828
DTSTART;TZID=Europe/Berlin:20270707T180000
DTEND;TZID=Europe/Berlin:20270707T190000
UID:F271-03003-20270707T180000@MARTINUSFORUM E.V.
SUMMARY:Qigong (8x) Gesundheits-Qigong (F271-03003) 
LOCATION:Tagungszentrum Schmerlenbach, Schmerlenbacher Straße 8, 63768 Hösbach
END:VEVENT
BEGIN:VEVENT
DTSTAMP:20260421T235828
DTSTART;TZID=Europe/Berlin:20270714T180000
DTEND;TZID=Europe/Berlin:20270714T190000
UID:F271-03003-20270714T180000@MARTINUSFORUM E.V.
SUMMARY:Qigong (8x) Gesundheits-Qigong (F271-03003) 
LOCATION:Tagungszentrum Schmerlenbach, Schmerlenbacher Straße 8, 63768 Hösbach
END:VEVENT
BEGIN:VEVENT
DTSTAMP:20260421T235828
DTSTART;TZID=Europe/Berlin:20270721T180000
DTEND;TZID=Europe/Berlin:20270721T190000
UID:F271-03003-20270721T180000@MARTINUSFORUM E.V.
SUMMARY:Qigong (8x) Gesundheits-Qigong (F271-03003) 
LOCATION:Tagungszentrum Schmerlenbach, Schmerlenbacher Straße 8, 63768 Hösbach
END:VEVENT
END:VCALENDAR